BEGIN:VCALENDAR
VERSION:2.0
PRODID:-//Tukios.com/
BEGIN:VEVENT
UID:cc149900-4917-489f-9603-c0b1e5166219@www.abelsfuneralhomes.com
DTSTAMP:20260423T230640Z
DTSTART:20260509T143000Z
DTEND:20260509T153000Z
SUMMARY:Visitation
DESCRIPTION:
URL:https://www.abelsfuneralhomes.com/obituaries/henry-schick
LOCATION: 207 Randall St  Reinbeck IA 50669
GEO:42.3230044;-92.5959449
END:VEVENT
END:VCALENDAR