BEGIN:VCALENDAR
VERSION:2.0
PRODID:-//Tukios.com/
BEGIN:VEVENT
UID:3995269f-9131-4f7d-9f21-700fcbf1b5f7@www.abelsfuneralhomes.com
DTSTAMP:20260423T230159Z
DTSTART:20260509T153000Z
DTEND:20260509T163000Z
SUMMARY:Memorial Service
DESCRIPTION:
URL:https://www.abelsfuneralhomes.com/obituaries/henry-schick
LOCATION: 207 Randall St  Reinbeck IA 50669
GEO:42.3230044;-92.5959449
END:VEVENT
END:VCALENDAR